Workbook

Sheet 2026年7月更新
A1: 温州银行理财业务合作机构信息
A2: 序号 | B2: 合作机构名称
A3: 1 | B3: 创金合信基金管理有限公司
A4: 2 | B4: 南方基金管理股份有限公司
A5: 3 | B5: 中银基金管理有限公司
A6: 4 | B6: 嘉实基金管理有限公司
A7: 5 | B7: 南华基金管理有限公司
A8: 6 | B8: 招商证券资产管理有限公司
A9: 7 | B9: 上海海通证券资产管理有限公司
A10: 8 | B10: 上海光大证券资产管理有限公司
A11: 9 | B11: 太平洋资产管理有限责任公司
A12: 10 | B12: 永诚保险资产管理有限公司
A13: 11 | B13: 东方汇智资产管理有限公司
A14: 12 | B14: 中信期货有限公司
... A37: 35 | B37: 申万宏源证券有限公司

Sheet Sheet1
A1: 合作机构名称
A2: 南方基金管理股份有限公司 | B2: 1
A3: 创金合信基金管理有限公司 | B3: =VLOOKUP(A:A,'2026年7月更新'!B:B,1,FALSE) -> 创金合信基金管理有限公司
A4: 创金合信基金管理有限公司 | B4: =VLOOKUP(A:A,'2026年7月更新'!B:B,1,FALSE) -> 创金合信基金管理有限公司
A5: 东方汇智资产管理有限公司 | B5: =VLOOKUP(A:A,'2026年7月更新'!B:B,1,FALSE) -> 东方汇智资产管理有限公司
A6: 广东粤财信托有限公司 | B6: =VLOOKUP(A:A,'2026年7月更新'!B:B,1,FALSE) -> 广东粤财信托有限公司
A7: 广发证券股份有限公司 | B7: =VLOOKUP(A:A,'2026年7月更新'!B:B,1,FALSE) -> 广发证券股份有限公司
A8: 国海证券股份有限公司 | B8: =VLOOKUP(A:A,'2026年7月更新'!B:B,1,FALSE) -> 国海证券股份有限公司
A9: 杭州工商信托股份有限公司 | B9: =VLOOKUP(A:A,'2026年7月更新'!B:B,1,FALSE) -> 杭州工商信托股份有限公司
A10: 华润深国投信托有限公司 | B10: =VLOOKUP(A:A,'2026年7月更新'!B:B,1,FALSE) -> 华润深国投信托有限公司
A11: 华夏基金管理有限公司 | B11: =VLOOKUP(A:A,'2026年7月更新'!B:B,1,FALSE) -> 华夏基金管理有限公司
A12: 嘉实基金管理有限公司 | B12: =VLOOKUP(A:A,'2026年7月更新'!B:B,1,FALSE) -> 嘉实基金管理有限公司
A13: 宁波银行股份有限公司 | B13: =VLOOKUP(A:A,'2026年7月更新'!B:B,1,FALSE) -> 宁波银行股份有限公司
A14: 宁波银行股份有限公司 | B14: =VLOOKUP(A:A,'2026年7月更新'!B:B,1,FALSE) -> 宁波银行股份有限公司
... A38: 建元信托股份有限公司 | B38: =VLOOKUP(A:A,'2026年7月更新'!B:B,1,FALSE) -> 建元信托股份有限公司
A42: 华泰柏瑞等公募基金，评审部列入合作机构。但实际未报备。——坚持公募基金作为资产，不纳入合作机构管理，且本行也无直投。

Sheet Sheet2
A1: 1 | B1: 招商证券资产管理有限公司 | C1: 投资合作机构
A2: 2 | B2: 南方基金管理股份有限公司 | C2: 投资合作机构
A3: 3 | B3: 中银基金管理有限公司 | C3: 投资合作机构
A4: 4 | B4: 上海海通证券资产管理有限公司 | C4: 投资合作机构
A5: 5 | B5: 中信期货有限公司 | C5: 投资合作机构
A6: 6 | B6: 嘉实基金管理有限公司 | C6: 投资合作机构
A7: 7 | B7: 创金合信基金管理有限公司 | C7: 投资合作机构
A8: 8 | B8: 杭州工商信托股份有限公司 | C8: 投资合作机构
A9: 9 | B9: 瑞元资本管理有限公司 | C9: 投资合作机构
A10: 10 | B10: 广东粤财信托有限公司 | C10: 投资合作机构
A11: 11 | B11: 国海证券股份有限公司 | C11: 投资合作机构
A12: 12 | B12: 华润深国投信托有限公司 | C12: 投资合作机构
... A27: 27 | B27: 建元信托有限责任公司 | C27: 投资合作机构
